{"text_format":"2","workbook":"xlsx","n_sheets":8,"sheets":["Instructions","1 Reference Cost for Generators","2 Generator Fuel Consumption","3 Generator System","4 Solar (Hybrid)","5 Generator (Hybrid)","6 Hybrid (Solar & Generator)","7 Graph"],"not_rendered":{"charts":2,"images":0,"macros":0,"external_links":0,"defined_names":0,"comments":2,"pivot_tables":0},"unopened":[],"bounds":{"document_bytes":16777216,"sheet_cells":100000,"run_cost":"one","rows_first":2000,"rows_last":500,"rows_between":2000,"halvings":0,"cell_chars":16384,"cell_head_chars":4096},"cells_cut":0,"cells_raw":0,"read":"whole","date_system":"1900"}

{"sheet":"Instructions","index":0,"n_rows":47,"n_cols":1,"rows_kept":47,"cut":false,"hidden":false,"merged":[]}
["How to use this tool"]
[]
["Introduction: This tool is intended to be used in order to compare the costs of buying, running and servicing a water scheme with a diesel generator vs an equivalent stand alone solar pumping solution."]
["Costs are estimated for a period of 25 years (lifespan of solar panels, the longest of all components)."]
["Costs that are common for both systems (e.g. salary of a guard for the water scheme) have been taken out, since they would have no impact in the cost comparision analysis."]
["Costs are calculated including pumping equipemnt (pump, genertor, solar panels, invertor and accessories). By adding additional columns, other costs could be included in the analysis if necessary."]
["Before proceeding to use the tool, read the Word document 'Technical Briefing - Ecoonomic Assessment', where principles of Net Present Value analysis are explained."]
[]
[]
["Tab 1: 'Reference Costs for Generators'"]
["Costs of Generators for Juba (South Sudan) are given on table on the left. Get prices of generators for your particular country/ location"]
[]
["Cost of Generator servicing is given on table on the right. Different servicing costs are given depending on the working hours of the generator and the quality of brand (high or low). "]
["Thee prices are used in the cost calculation under tab 'Generator System'. Use these prices as a reference, unless you have a more accurate information on the costs for mainting a generator in your location."]
[]
[]
["Tab 2: 'Generator Fuel Consumption'"]
["This table is a refernce for fuel consumption. Iedally your generator should be sized to work at 75% of its load and so you should use fuel consumption data from the 75% column."]
["If this is not the case or you have real data from the field, feel free to use the consumption you believe is closer to reality. This data will be used in tab 'Generator System'."]
[]
[]
["Tab 3: 'Generator System'"]
["In this tab total costs for buying, operating, maintaing and replacing the generator will be estimated for a period of 25 years."]
["Fill only the cells in yellow."]
["Get discount factor for your country at http://data.worldbank.org/indicator/FR.INR.RINR?year_high_desc=false or in the Annex a of the Word document 'Technical Briefing - Economic Assessment'."]
["The cost of 1L of fuel should compromise costs to buy, store and transport fuel to the water scheme site."]
[]
[]
["Tab 4: 'Solar (Hybrid)'"]
["In this tab total costs for buying, operating, maintaing and replacing the solar pumping part of the hybrid system will be estimated for a period of 25 years."]
["Fill only the cells in yellow."]
["Cost of Solar Pumping solution should include all costs involved to buy and install the solar system (including invertor)."]
["Preventive and minor service (like cleaning and 1 or 2 visits of contractor technician to the field for preventive maintenance) is estimated at a flat rate of 1,500USD. Feel free to change I ncase rea ldata are avaible."]
[]
[]
["Tab 5: 'Generator (Hybrid)'"]
["In this tab total costs for buying, operating, maintaing and replacing the generator pumping part of the hybrid system will be estimated for a period of 25 years."]
["Normally, the only difference with Tab 3 should be the annual working hours of the generator, that will be less than in Tab 3 since the solar part of the hybrid system will take over the generator during the solar day."]
["Fill only the cells in yellow."]
[]
[]
["Tab 6: 'Hybrid (Solar & Generator)'"]
["In this Tab costs for solar and generator parts of the hybrid systems are add up."]
[]
[]
["Tab 7: 'Graph'"]
["A comparative graph is automatically generated. Get the Return on Investment (point were both lines cross) and the costs saving (difference between the 2 lines after 25 years) as main information."]

{"sheet":"1 Reference Cost for Generators","index":1,"n_rows":9,"n_cols":9,"rows_kept":9,"cut":false,"hidden":false,"merged":[[0,4,0,8],[2,5,2,6],[2,7,2,8]]}
["Diesel Genset (Indicate Brand)",null,"Prices in Juba (USD)",null,"General Reference for Maintenance of Gensets"]
[12.5,"kVA",4500]
[15,"kVA",6000,null,"Genset Maintenance","Good Quality Engine",null,"Low Quality Engine"]
[20,"kVA",12000,null,"Maintenance and Replacement","Frequency of change (h)","Price (USD)","Frequency (hours)","Price (USD)"]
[30,"kVA",18500,null,"Minor Service",250,20,250,20]
[45,"kVA",22500,null,"Major Service",1000,180,1000,125]
[60,"kVA",30000,null,"Overhaul",10000,"30% of new",5000,"60% of new"]
[80,"kVA",34000,null,"Replacement",35000,"See 'Cost of New Gensets'",10000,"See 'Cost of New Gensets'"]
[100,"kVA",40000]

{"sheet":"2 Generator Fuel Consumption","index":2,"n_rows":28,"n_cols":6,"rows_kept":28,"cut":false,"hidden":false,"merged":[[0,0,0,5],[1,0,1,1],[1,2,1,5]]}
["Genset Fuel Consumption chart"]
["Generator",null,"Liter/hour"]
["kVA","kW","Load 25%","Load 50%","Load 75%","Load 100%"]
[25,{"$f":"A4*0.8","v":20},2.2999999999999998,3.4,4.9000000000000004,6]
[38,30.400000000000002,4.2,6.8,9.1,11]
[50,40,6,8.6999999999999993,12.1,15.1]
[75,60,6.8,11,14.4,18.100000000000001]
[94,75.2,9.1,12.9,17.399999999999999,23.1]
[125,100,9.8000000000000007,15.5,21.9,28]
[156,124.80000000000001,11.7,18.899999999999999,26.8,34.4]
[169,135.20000000000002,12.5,20.399999999999999,28.7,37]
[188,150.4,13.6,22.3,31.8,41.2]
[219,175.20000000000002,15.5,25.7,36.700000000000003,48]
[250,200,17.100000000000001,29.1,41.6,54.4]
[288,230.4,20,33.299999999999997,47.3,62.7]
[313,250.4,21.6,35.9,51.4,68]
[375,300,25.7,42.7,60.9,81.3]
[438,350.40000000000003,29.9,49.5,70.7,94.9]
[500,400,33.6,56.3,80.5,108.1]
[625,500,41.6,69.900000000000006,99.8,134.9]
[750,600,49.9,83.2,119.1,161.80000000000001]
[938,750.40000000000009,61.6,103.6,148.6,201.9]
[1250,1000,81.599999999999994,137.6,196.9,268.8]
[1563,1250.4000000000001,101.7,171.2,245.7,335.7]
[1875,1500,121.7,205.3,294.10000000000002,402.6]
[2188,1750.4,141.80000000000001,238.9,342.8,469.5]
[2500,2000,161.80000000000001,272.89999999999998,391.5,536.4]
[2813,2250.4,181.8,306.60000000000002,440,603.29999999999995]

{"sheet":"3 Generator System","index":3,"n_rows":32,"n_cols":13,"rows_kept":32,"cut":false,"hidden":false,"merged":[]}
["discount factor (d)",0.06,null,null,null,"h"]
["Cost of generator (USD)",34000]
["Cost of 1 L of fuel (USD)",1.2]
["Year","Capital Cost","Generator Working time (hours/year)","Cumulative hours for overhaul","Cumulative hours for replacement","Minor Service","Major Service","Fuel Consumption (l/h)","Cost of fuel","Overhaul","Replacement","Discount Factor (d)","Total Costs in Present Worth (USD)"]
[null,"(= capital cost OR 0$ in case there is already a generator in place)",null,null,null,"20 USD every 250h","180 USD  every 1000h",null,null,"30% genset cost every 10,000h","New genset every 35,000h"]
[0,{"$f":"B2","v":34000},{"$f":"8.3*365","v":3029.5000000000005},{"$f":"C6","v":3029.5000000000005},{"$f":"C6","v":3029.5000000000005},{"$f":"(C6/250)*20","v":242.36000000000004},{"$f":"(C6/1000)*180","v":545.31000000000006},11,{"$f":"C6*H6*B3","v":39989.400000000009},null,null,{"$f":"1/(1+$B$1)^A6","v":1},{"$f":"L6*(B6+F6+G6+I6+J6+K6)","v":74777.070000000007}]
[1,null,{"$f":"C6","v":3029.5000000000005},{"$f":"IF(K7=0,IF(D6+C7>10000,D6+C7-10000,D6+C7),E7)","v":6059.0000000000009},{"$f":"IF(E6+C7>35000,E6+C7-35000,E6+C7)","v":6059.0000000000009},242.36000000000004,545.31000000000006,null,{"$f":"I6","v":39989.400000000009},{"$f":"IF($D6+$C7>10000,$B$2*0.3,0)","v":0},{"$f":"IF($E6+$C7>35000,$B$2,0)","v":0},0.94339622641509424,{"$f":"L7*(F7+G7+I7+J7+K7)","v":38468.933962264156}]
[2,null,{"$f":"C7","v":3029.5000000000005},9088.5000000000018,9088.5000000000018,242.36000000000004,545.31000000000006,null,{"$f":"I7","v":39989.400000000009},{"$f":"IF($D7+$C8>10000,$B$2*0.3,0)","v":0},{"$f":"IF($E7+$C8>35000,$B$2,0)","v":0},0.88999644001423983,36291.447134211463]
[3,null,3029.5000000000005,2118.0000000000018,12118.000000000002,242.36000000000004,545.31000000000006,null,39989.400000000009,10200,0,0.8396192830323016,42801.330964487453]
[4,null,3029.5000000000005,5147.5000000000018,15147.500000000002,242.36000000000004,545.31000000000006,null,39989.400000000009,0,0,0.79209366323802044,32299.258752413192]
[5,null,3029.5000000000005,8177.0000000000018,18177.000000000004,242.36000000000004,545.31000000000006,null,39989.400000000009,0,0,0.74725817286605689,30470.998823031307]
[6,null,3029.5000000000005,1206.5000000000018,21206.500000000004,242.36000000000004,545.31000000000006,null,39989.400000000009,10200,0,0.70496054043967626,35936.822817231216]
[7,null,3029.5000000000005,4236.0000000000018,24236.000000000004,242.36000000000004,545.31000000000006,null,39989.400000000009,0,0,0.66505711362233599,27119.080476175954]
[8,null,3029.5000000000005,7265.5000000000018,27265.500000000004,242.36000000000004,545.31000000000006,null,39989.400000000009,0,0,0.62741237134182648,25584.038185071655]
[9,null,3029.5000000000005,295.00000000000182,30295.000000000004,242.36000000000004,545.31000000000006,null,39989.400000000009,10200,0,0.59189846353002495,30173.249408262534]
[10,null,3029.5000000000005,{"$f":"IF(K16=0,IF(D15+C16>10000,D15+C16-10000,D15+C16),E16)","v":3324.5000000000023},33324.500000000007,242.36000000000004,545.31000000000006,null,39989.400000000009,0,0,0.55839477691511785,22769.702905902148]
[11,null,3029.5000000000005,1354.0000000000073,1354.0000000000073,242.36000000000004,545.31000000000006,null,39989.400000000009,0,34000,0.52678752539162055,39391.627661335988]
[12,null,3029.5000000000005,4383.5000000000073,4383.5000000000073,242.36000000000004,545.31000000000006,null,39989.400000000009,0,0,0.4969693635770005,20264.954526434802]
[13,null,3029.5000000000005,7413.0000000000073,7413.0000000000073,242.36000000000004,545.31000000000006,null,39989.400000000009,0,0,0.46883902224245327,19117.881628712079]
[14,null,3029.5000000000005,442.50000000000728,10442.500000000007,242.36000000000004,545.31000000000006,null,39989.400000000009,10200,0,0.44230096437967292,22547.207222250097]
[15,null,3029.5000000000005,3472.0000000000077,13472.000000000007,242.36000000000004,545.31000000000006,null,39989.400000000009,0,0,0.41726506073554037,17014.846590167384]
[16,null,3029.5000000000005,6501.5000000000082,16501.500000000007,242.36000000000004,545.31000000000006,null,39989.400000000009,0,0,0.39364628371277405,16051.742066195649]
[17,null,3029.5000000000005,9531.0000000000091,19531.000000000007,242.36000000000004,545.31000000000006,null,39989.400000000009,0,0,0.37136441859695657,15143.152892637403]
[18,null,3029.5000000000005,2560.5000000000091,22560.500000000007,242.36000000000004,545.31000000000006,null,39989.400000000009,10200,0,0.35034379112920433,17859.499964458832]
[19,null,3029.5000000000005,5590.0000000000091,25590.000000000007,242.36000000000004,545.31000000000006,null,39989.400000000009,0,0,0.3305130104992493,13477.352165038626]
[20,null,3029.5000000000005,8619.5000000000091,28619.500000000007,242.36000000000004,545.31000000000006,null,39989.400000000009,0,0,0.31180472688608429,12714.483174564744]
[21,null,3029.5000000000005,1649.0000000000091,31649.000000000007,242.36000000000004,545.31000000000006,null,39989.400000000009,10200,0,0.29415540272272095,14995.180555474339]
[22,null,3029.5000000000005,4678.5000000000091,34678.500000000007,242.36000000000004,545.31000000000006,null,39989.400000000009,0,0,0.27750509690822728,11315.84476198357]
[23,null,3029.5000000000005,2708.0000000000073,2708.0000000000073,242.36000000000004,545.31000000000006,null,39989.400000000009,0,34000,0.26179726123417668,19576.432129116318]
[24,null,3029.5000000000005,5737.5000000000073,5737.5000000000073,242.36000000000004,545.31000000000006,null,39989.400000000009,0,0,0.24697854833412897,10071.061553919162]
[]
[{"$nulls":11},"TOTAL COST",{"$f":"SUM(M6:M31)","v":646233.20032134012}]

{"sheet":"4 Solar (Hybrid)","index":4,"n_rows":32,"n_cols":10,"rows_kept":32,"cut":false,"hidden":false,"merged":[]}
["discount factor (d)",{"$f":"'3 Generator System'!B1","v":0.06}]
["Cost of solar (USD)",65000]
["Cost of Invertor (USD)",{"$f":"200000/80","v":2500}]
["Year","Capital Cost","Preventive and Minor Service and ","Major Service","Fuel Consumption (l/h)","Cost of fuel","Overhaul","Replacement","Discount Factor (d)","Present Worth (USD)"]
[null,null,"Cleaning","_",null,null,"_","Change invertor every 7 yrs"]
[0,{"$f":"B2","v":65000},1500,0,0,0,null,null,{"$f":"1/(1+$B$1)^A6","v":1},{"$f":"I6*(B6+C6+D6+F6+G6+H6)","v":66500}]
[1,null,{"$f":"C6","v":1500},{"$f":"D6","v":0},null,{"$f":"F6","v":0},null,null,{"$f":"1/(1+$B$1)^A7","v":0.94339622641509424},{"$f":"I7*(C7+D7+F7+G7+H7)","v":1415.0943396226414}]
[2,null,{"$f":"C7","v":1500},{"$f":"D7","v":0},null,{"$f":"F7","v":0},null,null,0.88999644001423983,1334.9946600213598]
[3,null,1500,0,null,0,null,null,0.8396192830323016,1259.4289245484524]
[4,null,1500,0,null,0,null,null,0.79209366323802044,1188.1404948570307]
[5,null,1500,0,null,0,null,null,0.74725817286605689,1120.8872592990854]
[6,null,1500,0,null,0,null,{"$f":"B3","v":2500},0.70496054043967626,2819.8421617587051]
[7,null,1500,0,null,0,null,null,0.66505711362233599,997.58567043350399]
[8,null,1500,0,null,0,null,null,0.62741237134182648,941.11855701273976]
[9,null,1500,0,null,0,null,null,0.59189846353002495,887.8476952950374]
[10,null,1500,0,null,0,null,null,0.55839477691511785,837.59216537267673]
[11,null,1500,0,null,0,null,null,0.52678752539162055,790.18128808743086]
[12,null,1500,0,null,0,null,null,0.4969693635770005,745.45404536550075]
[13,null,1500,0,null,0,null,{"$f":"B3","v":2500},0.46883902224245327,1875.3560889698131]
[14,null,1500,0,null,0,null,null,0.44230096437967292,663.45144656950936]
[15,null,1500,0,null,0,null,null,0.41726506073554037,625.89759110331056]
[16,null,1500,0,null,0,null,null,0.39364628371277405,590.4694255691611]
[17,null,1500,0,null,0,null,null,0.37136441859695657,557.04662789543488]
[18,null,1500,0,null,0,null,null,0.35034379112920433,525.51568669380651]
[19,null,1500,0,null,0,null,null,0.3305130104992493,495.76951574887397]
[20,null,1500,0,null,0,null,null,0.31180472688608429,467.70709032912646]
[21,null,1500,0,null,0,null,{"$f":"B3","v":2500},0.29415540272272095,1176.6216108908839]
[22,null,1500,0,null,0,null,null,0.27750509690822728,416.2576453623409]
[23,null,1500,0,null,0,null,null,0.26179726123417668,392.695891851265]
[24,null,1500,0,null,0,null,null,0.24697854833412897,370.46782250119344]
[]
[{"$nulls":8},"TOTAL COST",{"$f":"SUM(J6:J31)","v":88995.423705158901}]

{"sheet":"5 Generator (Hybrid)","index":5,"n_rows":32,"n_cols":13,"rows_kept":32,"cut":false,"hidden":false,"merged":[]}
["discount factor (d)",0.06,null,null,null,"h"]
["Cost of generator (USD)",34000]
["Cost of 1 L of fuel (USD)",1.2]
["Year","Capital Cost","Generator Working time (hours/year)","Cumulative hours for overhaul","Cumulative hours for replacement","Minor Service","Major Service","Fuel Consumption (l/h)","Cost of fuel","Overhaul","Replacement","Discount Factor (d)","Total Costs in Present Worth (USD)"]
[null,"(= capital cost OR 0$ in case there is already a generator in place)",null,null,null,"20 USD every 250h","180 USD  every 1000h",null,null,"30% genset cost every 10,000h","New genset every 35,000h"]
[0,{"$f":"B2","v":34000},{"$f":"3*365","v":1095},{"$f":"C6","v":1095},{"$f":"C6","v":1095},{"$f":"(C6/250)*20","v":87.6},{"$f":"(C6/1000)*180","v":197.1},11,{"$f":"C6*H6*B3","v":14454},null,null,{"$f":"1/(1+$B$1)^A6","v":1},{"$f":"L6*(B6+F6+G6+I6+J6+K6)","v":48738.7}]
[1,null,{"$f":"C6","v":1095},{"$f":"IF(K7=0,IF(D6+C7>10000,D6+C7-10000,D6+C7),E7)","v":2190},{"$f":"IF(E6+C7>35000,E6+C7-35000,E6+C7)","v":2190},87.6,197.1,null,{"$f":"I6","v":14454},{"$f":"IF($D6+$C7>10000,$B$2*0.3,0)","v":0},{"$f":"IF($E6+$C7>35000,$B$2,0)","v":0},0.94339622641509424,{"$f":"L7*(F7+G7+I7+J7+K7)","v":13904.433962264151}]
[2,null,{"$f":"C7","v":1095},3285,3285,87.6,197.1,null,{"$f":"I7","v":14454},{"$f":"IF($D7+$C8>10000,$B$2*0.3,0)","v":0},{"$f":"IF($E7+$C8>35000,$B$2,0)","v":0},0.88999644001423983,13117.390530437877]
[3,null,1095,4380,4380,87.6,197.1,null,14454,0,0,0.8396192830323016,12374.896726828185]
[4,null,1095,5475,5475,87.6,197.1,null,14454,0,0,0.79209366323802044,11674.430874366213]
[5,null,1095,6570,6570,87.6,197.1,null,14454,0,0,0.74725817286605689,11013.614032420954]
[6,null,1095,7665,7665,87.6,197.1,null,14454,0,0,0.70496054043967626,10390.201917378257]
[7,null,1095,8760,8760,87.6,197.1,null,14454,0,0,0.66505711362233599,9802.0772805455235]
[8,null,1095,9855,9855,87.6,197.1,null,14454,0,0,0.62741237134182648,9247.2427174957793]
[9,null,1095,950,10950,87.6,197.1,null,14454,10200,0,0.59189846353002495,14761.178212436234]
[10,null,1095,{"$f":"IF(K16=0,IF(D15+C16>10000,D15+C16-10000,D15+C16),E16)","v":2045},12045,87.6,197.1,null,14454,0,0,0.55839477691511785,8230.013098518848]
[11,null,1095,3140,13140,87.6,197.1,null,14454,0,0,0.52678752539162055,7764.1633004894784]
[12,null,1095,4235,14235,87.6,197.1,null,14454,0,0,0.4969693635770005,7324.6823589523374]
[13,null,1095,5330,15330,87.6,197.1,null,14454,0,0,0.46883902224245327,6910.0776971248461]
[14,null,1095,6425,16425,87.6,197.1,null,14454,0,0,0.44230096437967292,6518.9412237026854]
[15,null,1095,7520,17520,87.6,197.1,null,14454,0,0,0.41726506073554037,6149.944550662909]
[16,null,1095,8615,18615,87.6,197.1,null,14454,0,0,0.39364628371277405,5801.8344817574634]
[17,null,1095,9710,19710,87.6,197.1,null,14454,0,0,0.37136441859695657,5473.428756374964]
[18,null,1095,805,20805,87.6,197.1,null,14454,10200,0,0.35034379112920433,8737.1187038338885]
[19,null,1095,1900,21900,87.6,197.1,null,14454,0,0,0.3305130104992493,4871.3321078452864]
[20,null,1095,2995,22995,87.6,197.1,null,14454,0,0,0.31180472688608429,4595.5963281559307]
[21,null,1095,4090,24090,87.6,197.1,null,14454,0,0,0.29415540272272095,4335.4682341093676]
[22,null,1095,5185,25185,87.6,197.1,null,14454,0,0,0.27750509690822728,4090.0643718012898]
[23,null,1095,6280,26280,87.6,197.1,null,14454,0,0,0.26179726123417668,3858.5512941521602]
[24,null,1095,7375,27375,87.6,197.1,null,14454,0,0,0.24697854833412897,3640.1427303322266]
[]
[{"$nulls":11},"TOTAL COST",{"$f":"SUM(M6:M31)","v":243325.52549198686}]

{"sheet":"6 Hybrid (Solar & Generator)","index":6,"n_rows":29,"n_cols":2,"rows_kept":29,"cut":false,"hidden":false,"merged":[]}
["Year","Hybrid (Solar + Generator) Present Worth (USD)"]
[]
[0,{"$f":"'4 Solar (Hybrid)'!J6+'5 Generator (Hybrid)'!M6","v":115238.7}]
[1,{"$f":"'4 Solar (Hybrid)'!J7+'5 Generator (Hybrid)'!M7","v":15319.528301886792}]
[2,{"$f":"'4 Solar (Hybrid)'!J8+'5 Generator (Hybrid)'!M8","v":14452.385190459237}]
[3,{"$f":"'4 Solar (Hybrid)'!J9+'5 Generator (Hybrid)'!M9","v":13634.325651376637}]
[4,{"$f":"'4 Solar (Hybrid)'!J10+'5 Generator (Hybrid)'!M10","v":12862.571369223244}]
[5,{"$f":"'4 Solar (Hybrid)'!J11+'5 Generator (Hybrid)'!M11","v":12134.501291720038}]
[6,{"$f":"'4 Solar (Hybrid)'!J12+'5 Generator (Hybrid)'!M12","v":13210.044079136962}]
[7,{"$f":"'4 Solar (Hybrid)'!J13+'5 Generator (Hybrid)'!M13","v":10799.662950979027}]
[8,{"$f":"'4 Solar (Hybrid)'!J14+'5 Generator (Hybrid)'!M14","v":10188.361274508519}]
[9,{"$f":"'4 Solar (Hybrid)'!J15+'5 Generator (Hybrid)'!M15","v":15649.025907731271}]
[10,{"$f":"'4 Solar (Hybrid)'!J16+'5 Generator (Hybrid)'!M16","v":9067.6052638915244}]
[11,{"$f":"'4 Solar (Hybrid)'!J17+'5 Generator (Hybrid)'!M17","v":8554.3445885769088}]
[12,{"$f":"'4 Solar (Hybrid)'!J18+'5 Generator (Hybrid)'!M18","v":8070.1364043178382}]
[13,{"$f":"'4 Solar (Hybrid)'!J19+'5 Generator (Hybrid)'!M19","v":8785.4337860946598}]
[14,{"$f":"'4 Solar (Hybrid)'!J20+'5 Generator (Hybrid)'!M20","v":7182.3926702721947}]
[15,{"$f":"'4 Solar (Hybrid)'!J21+'5 Generator (Hybrid)'!M21","v":6775.8421417662194}]
[16,{"$f":"'4 Solar (Hybrid)'!J22+'5 Generator (Hybrid)'!M22","v":6392.3039073266245}]
[17,{"$f":"'4 Solar (Hybrid)'!J23+'5 Generator (Hybrid)'!M23","v":6030.4753842703985}]
[18,{"$f":"'4 Solar (Hybrid)'!J24+'5 Generator (Hybrid)'!M24","v":9262.6343905276954}]
[19,{"$f":"'4 Solar (Hybrid)'!J25+'5 Generator (Hybrid)'!M25","v":5367.1016235941606}]
[20,{"$f":"'4 Solar (Hybrid)'!J26+'5 Generator (Hybrid)'!M26","v":5063.3034184850567}]
[21,{"$f":"'4 Solar (Hybrid)'!J27+'5 Generator (Hybrid)'!M27","v":5512.0898450002514}]
[22,{"$f":"'4 Solar (Hybrid)'!J28+'5 Generator (Hybrid)'!M28","v":4506.3220171636303}]
[23,{"$f":"'4 Solar (Hybrid)'!J29+'5 Generator (Hybrid)'!M29","v":4251.2471860034248}]
[24,{"$f":"'4 Solar (Hybrid)'!J30+'5 Generator (Hybrid)'!M30","v":4010.6105528334201}]
[]
["Total Cost for Hybrid ",{"$f":"SUM(B3:B28)","v":332320.94919714564}]

{"sheet":"7 Graph","index":7,"n_rows":29,"n_cols":3,"rows_kept":29,"cut":false,"hidden":false,"merged":[]}
["Cumulative Cost"]
[]
["Year","Generator","Hybrid (Solar+Generator)"]
["0 (Capital costs)",{"$f":"'3 Generator System'!B6","v":34000},{"$f":"'6 Hybrid (Solar & Generator)'!B3","v":115238.7}]
[1,{"$f":"'3 Generator System'!M6","v":74777.070000000007},{"$f":"C4+'6 Hybrid (Solar & Generator)'!B4","v":130558.22830188679}]
[2,{"$f":"B5+'3 Generator System'!M7","v":113246.00396226416},{"$f":"C5+'6 Hybrid (Solar & Generator)'!B5","v":145010.61349234602}]
[3,{"$f":"B6+'3 Generator System'!M8","v":149537.45109647562},{"$f":"C6+'6 Hybrid (Solar & Generator)'!B6","v":158644.93914372264}]
[4,{"$f":"B7+'3 Generator System'!M9","v":192338.78206096307},{"$f":"C7+'6 Hybrid (Solar & Generator)'!B7","v":171507.51051294588}]
[5,{"$f":"B8+'3 Generator System'!M10","v":224638.04081337625},{"$f":"C8+'6 Hybrid (Solar & Generator)'!B8","v":183642.01180466593}]
[6,{"$f":"B9+'3 Generator System'!M11","v":255109.03963640757},{"$f":"C9+'6 Hybrid (Solar & Generator)'!B9","v":196852.05588380288}]
[7,{"$f":"B10+'3 Generator System'!M12","v":291045.86245363881},{"$f":"C10+'6 Hybrid (Solar & Generator)'!B10","v":207651.7188347819}]
[8,{"$f":"B11+'3 Generator System'!M13","v":318164.94292981474},{"$f":"C11+'6 Hybrid (Solar & Generator)'!B11","v":217840.08010929043}]
[9,{"$f":"B12+'3 Generator System'!M14","v":343748.98111488641},{"$f":"C12+'6 Hybrid (Solar & Generator)'!B12","v":233489.1060170217}]
[10,{"$f":"B13+'3 Generator System'!M15","v":373922.23052314896},{"$f":"C13+'6 Hybrid (Solar & Generator)'!B13","v":242556.71128091321}]
[11,{"$f":"B14+'3 Generator System'!M16","v":396691.93342905113},{"$f":"C14+'6 Hybrid (Solar & Generator)'!B14","v":251111.05586949011}]
[12,{"$f":"B15+'3 Generator System'!M17","v":436083.56109038711},{"$f":"C15+'6 Hybrid (Solar & Generator)'!B15","v":259181.19227380794}]
[13,{"$f":"B16+'3 Generator System'!M18","v":456348.51561682194},{"$f":"C16+'6 Hybrid (Solar & Generator)'!B16","v":267966.6260599026}]
[14,{"$f":"B17+'3 Generator System'!M19","v":475466.397245534},{"$f":"C17+'6 Hybrid (Solar & Generator)'!B17","v":275149.01873017481}]
[15,{"$f":"B18+'3 Generator System'!M20","v":498013.60446778411},{"$f":"C18+'6 Hybrid (Solar & Generator)'!B18","v":281924.86087194103}]
[16,{"$f":"B19+'3 Generator System'!M21","v":515028.45105795149},{"$f":"C19+'6 Hybrid (Solar & Generator)'!B19","v":288317.16477926762}]
[17,{"$f":"B20+'3 Generator System'!M22","v":531080.19312414713},{"$f":"C20+'6 Hybrid (Solar & Generator)'!B20","v":294347.64016353805}]
[18,{"$f":"B21+'3 Generator System'!M23","v":546223.34601678455},{"$f":"C21+'6 Hybrid (Solar & Generator)'!B21","v":303610.27455406572}]
[19,{"$f":"B22+'3 Generator System'!M24","v":564082.84598124342},{"$f":"C22+'6 Hybrid (Solar & Generator)'!B22","v":308977.3761776599}]
[20,{"$f":"B23+'3 Generator System'!M25","v":577560.198146282},{"$f":"C23+'6 Hybrid (Solar & Generator)'!B23","v":314040.67959614494}]
[21,{"$f":"B24+'3 Generator System'!M26","v":590274.68132084678},{"$f":"C24+'6 Hybrid (Solar & Generator)'!B24","v":319552.76944114518}]
[22,{"$f":"B25+'3 Generator System'!M27","v":605269.86187632114},{"$f":"C25+'6 Hybrid (Solar & Generator)'!B25","v":324059.0914583088}]
[23,{"$f":"B26+'3 Generator System'!M28","v":616585.70663830475},{"$f":"C26+'6 Hybrid (Solar & Generator)'!B26","v":328310.33864431223}]
[24,{"$f":"B27+'3 Generator System'!M29","v":636162.13876742101},{"$f":"C27+'6 Hybrid (Solar & Generator)'!B27","v":332320.94919714564}]
[25,{"$f":"B28+'3 Generator System'!M30","v":646233.20032134012},{"$f":"C28+'6 Hybrid (Solar & Generator)'!B28","v":332320.94919714564}]